BEGIN:VCALENDAR
VERSION:2.0
PRODID:-//losfoundation.org//NONSGML kigkonsult.se iCalcreator 2.30.10//
CALSCALE:GREGORIAN
METHOD:PUBLISH
UID:77aeab09-4c07-4b85-bb4b-b595115c3a2c
X-WR-CALDESC:Foundation Board Meeting
X-WR-RELCALID:854318900c4c90e64752bbf1f6201bc9
X-WR-TIMEZONE:America/Los_Angeles
BEGIN:VTIMEZONE
TZID:America/Los_Angeles
BEGIN:STANDARD
TZNAME:PST
DTSTART:20241103T020000
TZOFFSETFROM:-0700
TZOFFSETTO:-0800
RDATE:20251102T020000
END:STANDARD
BEGIN:DAYLIGHT
TZNAME:PDT
DTSTART:20240310T020000
TZOFFSETFROM:-0800
TZOFFSETTO:-0700
RDATE:20250309T020000
RDATE:20260308T020000
END:DAYLIGHT
END:VTIMEZONE
BEGIN:VEVENT
UID:26fdf195-2835-44e2-abd5-b0b0d1cc2b77
DTSTAMP:20260425T154559Z
DESCRIPTION:Foundation Board Meeting
DTSTART;TZID=America/Los_Angeles:20250115T190000
DTEND;TZID=America/Los_Angeles:20250115T203000
LOCATION:
SUMMARY:Foundation Board Meeting
END:VEVENT
END:VCALENDAR
