BEGIN:VCALENDAR
VERSION:2.0
PRODID:-//losfoundation.org//NONSGML kigkonsult.se iCalcreator 2.30.10//
CALSCALE:GREGORIAN
METHOD:PUBLISH
UID:26785184-54ac-4166-b2ae-1383465cccea
X-WR-CALDESC:Winter Break
X-WR-RELCALID:aebf7052976389623787061072381808
X-WR-TIMEZONE:America/Los_Angeles
BEGIN:VTIMEZONE
TZID:America/Los_Angeles
BEGIN:STANDARD
TZNAME:PST
DTSTART:20241103T020000
TZOFFSETFROM:-0700
TZOFFSETTO:-0800
RDATE:20251102T020000
END:STANDARD
BEGIN:DAYLIGHT
TZNAME:PDT
DTSTART:20240310T020000
TZOFFSETFROM:-0800
TZOFFSETTO:-0700
RDATE:20250309T020000
RDATE:20260308T020000
END:DAYLIGHT
END:VTIMEZONE
BEGIN:VEVENT
UID:86a0f05b-6e23-4411-9331-47308567b8b6
DTSTAMP:20260425T143426Z
DESCRIPTION:Winter Break
DTSTART;TZID=America/Los_Angeles:20241223T030000
DTEND;TZID=America/Los_Angeles:20250103T030001
LOCATION:
SUMMARY:Winter Break (Monday\, December 23rd to Friday\, January 3rd)
END:VEVENT
END:VCALENDAR
