BEGIN:VCALENDAR
VERSION:2.0
PRODID:-//losfoundation.org//NONSGML kigkonsult.se iCalcreator 2.30.10//
CALSCALE:GREGORIAN
METHOD:PUBLISH
UID:ed78a406-f9da-4ea8-b942-ed6358b320f8
X-WR-CALDESC:Thanksgiving: Thursday\, November 28th
X-WR-RELCALID:124973d06a44b94dd1f0b418944e6753
X-WR-TIMEZONE:America/Los_Angeles
BEGIN:VTIMEZONE
TZID:America/Los_Angeles
BEGIN:STANDARD
TZNAME:PST
DTSTART:20241103T020000
TZOFFSETFROM:-0700
TZOFFSETTO:-0800
RDATE:20251102T020000
END:STANDARD
BEGIN:DAYLIGHT
TZNAME:PDT
DTSTART:20240310T020000
TZOFFSETFROM:-0800
TZOFFSETTO:-0700
RDATE:20250309T020000
RDATE:20260308T020000
END:DAYLIGHT
END:VTIMEZONE
BEGIN:VEVENT
UID:69cc7f30-2d67-4c74-9b72-5493675412b4
DTSTAMP:20260425T132201Z
DESCRIPTION:Thanksgiving: Thursday\, November 28th
DTSTART;TZID=America/Los_Angeles:20241127T030000
DTEND;TZID=America/Los_Angeles:20241129T030001
LOCATION:
SUMMARY:Thanksgiving Break (Wednesday\, November 27th to Friday\, November 
 29th)
END:VEVENT
END:VCALENDAR
