BEGIN:VCALENDAR
VERSION:2.0
PRODID:-//losfoundation.org//NONSGML kigkonsult.se iCalcreator 2.30.10//
CALSCALE:GREGORIAN
METHOD:PUBLISH
UID:d88d4b27-ffdf-41e6-b1bc-8526057fdaec
X-WR-CALDESC:
X-WR-RELCALID:b3e13ad0e12da12b500379f3a4ba271b
X-WR-TIMEZONE:America/Los_Angeles
BEGIN:VTIMEZONE
TZID:America/Los_Angeles
BEGIN:STANDARD
TZNAME:PST
DTSTART:20241103T020000
TZOFFSETFROM:-0700
TZOFFSETTO:-0800
RDATE:20251102T020000
END:STANDARD
BEGIN:DAYLIGHT
TZNAME:PDT
DTSTART:20240310T020000
TZOFFSETFROM:-0800
TZOFFSETTO:-0700
RDATE:20250309T020000
RDATE:20260308T020000
END:DAYLIGHT
END:VTIMEZONE
BEGIN:VEVENT
UID:a7ce9595-37cf-4421-9ea0-43cd083cc3f5
DTSTAMP:20260425T131312Z
DESCRIPTION:
DTSTART;TZID=America/Los_Angeles:20241113T190000
DTEND;TZID=America/Los_Angeles:20241113T203000
LOCATION:
SUMMARY:Foundation Board Meeting
END:VEVENT
END:VCALENDAR
