BEGIN:VCALENDAR
VERSION:2.0
PRODID:-//losfoundation.org//NONSGML kigkonsult.se iCalcreator 2.30.10//
CALSCALE:GREGORIAN
METHOD:PUBLISH
UID:5b5cc6cc-ba0d-4ff6-88c8-f3368626e291
X-WR-CALDESC:LOHS vs LHS Varsity Football @ LOHS
X-WR-RELCALID:7e46d5ba0a37a2047402da873a8af5e3
X-WR-TIMEZONE:America/Los_Angeles
BEGIN:VTIMEZONE
TZID:America/Los_Angeles
BEGIN:STANDARD
TZNAME:PST
DTSTART:20231105T020000
TZOFFSETFROM:-0700
TZOFFSETTO:-0800
RDATE:20241103T020000
RDATE:20251102T020000
END:STANDARD
BEGIN:DAYLIGHT
TZNAME:PDT
DTSTART:20240310T020000
TZOFFSETFROM:-0800
TZOFFSETTO:-0700
RDATE:20250309T020000
RDATE:20260308T020000
END:DAYLIGHT
END:VTIMEZONE
BEGIN:VEVENT
UID:5ee6d2bd-8901-49e3-a098-6a47a59815fd
DTSTAMP:20260425T131456Z
DESCRIPTION:LOHS vs LHS Varsity Football @ LOHS
DTSTART;TZID=America/Los_Angeles:20241101T190000
DTEND;TZID=America/Los_Angeles:20241101T210000
LOCATION:
SUMMARY:LOHS vs LHS Varsity Football (@LOHS)
END:VEVENT
END:VCALENDAR
