BEGIN:VCALENDAR
VERSION:2.0
PRODID:-//losfoundation.org//NONSGML kigkonsult.se iCalcreator 2.30.10//
CALSCALE:GREGORIAN
METHOD:PUBLISH
UID:08da9cb9-4f4a-4a76-9ff3-611390d1ecc7
X-WR-CALDESC:Enjoy friendly competition as you test your luck playing sever
 al rounds of bingo! Prizes will be awarded for each win.\nBrought to you b
 y the Lake Oswego Schools Foundation in the Lakeridge HS Cafeteria. All ag
 es welcome\, this is a free event.
X-WR-RELCALID:24282741d5af40ea7e8e0b30233440a4
X-WR-TIMEZONE:America/Los_Angeles
BEGIN:VTIMEZONE
TZID:America/Los_Angeles
BEGIN:STANDARD
TZNAME:PST
DTSTART:20231105T020000
TZOFFSETFROM:-0700
TZOFFSETTO:-0800
RDATE:20241103T020000
RDATE:20251102T020000
END:STANDARD
BEGIN:DAYLIGHT
TZNAME:PDT
DTSTART:20240310T020000
TZOFFSETFROM:-0800
TZOFFSETTO:-0700
RDATE:20250309T020000
RDATE:20260308T020000
END:DAYLIGHT
END:VTIMEZONE
BEGIN:VEVENT
UID:13362047-38eb-460e-807e-721d73f548e5
DTSTAMP:20260425T144702Z
DESCRIPTION:Enjoy friendly competition as you test your luck playing severa
 l rounds of bingo! Prizes will be awarded for each win.\nBrought to you by
  the Lake Oswego Schools Foundation in the Lakeridge HS Cafeteria. All age
 s welcome\, this is a free event.
DTSTART;TZID=America/Los_Angeles:20241029T183000
DTEND;TZID=America/Los_Angeles:20241029T200000
LOCATION:1235 Overlook Drive\, Lake Oswego\, OR 97034 US
SUMMARY:Family Bingo Night!
END:VEVENT
END:VCALENDAR
