BEGIN:VCALENDAR
VERSION:2.0
PRODID:-//losfoundation.org//NONSGML kigkonsult.se iCalcreator 2.30.10//
CALSCALE:GREGORIAN
METHOD:PUBLISH
UID:9bcd1fbc-71d9-4cb2-b513-61c21c87c9bc
X-WR-CALDESC:Lake Oswego Varsity Football vs Oregon City (home)
X-WR-RELCALID:2dcbc922567f2b0b6634d9f9f2a0ca09
X-WR-TIMEZONE:America/Los_Angeles
BEGIN:VTIMEZONE
TZID:America/Los_Angeles
BEGIN:STANDARD
TZNAME:PST
DTSTART:20231105T020000
TZOFFSETFROM:-0700
TZOFFSETTO:-0800
RDATE:20241103T020000
RDATE:20251102T020000
END:STANDARD
BEGIN:DAYLIGHT
TZNAME:PDT
DTSTART:20240310T020000
TZOFFSETFROM:-0800
TZOFFSETTO:-0700
RDATE:20250309T020000
RDATE:20260308T020000
END:DAYLIGHT
END:VTIMEZONE
BEGIN:VEVENT
UID:ec731015-3189-4b1b-a2ac-647761de068d
DTSTAMP:20260425T143914Z
DESCRIPTION:Lake Oswego Varsity Football vs Oregon City (home)
DTSTART;TZID=America/Los_Angeles:20241025T190000
DTEND;TZID=America/Los_Angeles:20241025T210000
LOCATION:
SUMMARY:Lake Oswego Varsity Football vs Oregon City (home)
END:VEVENT
END:VCALENDAR
