BEGIN:VCALENDAR
VERSION:2.0
PRODID:-//losfoundation.org//NONSGML kigkonsult.se iCalcreator 2.30.10//
CALSCALE:GREGORIAN
METHOD:PUBLISH
UID:e13eae9e-f088-48aa-9f87-26005e96b872
X-WR-CALDESC:
X-WR-RELCALID:ffaaca19d546713224f32c6ae32700d7
X-WR-TIMEZONE:America/Los_Angeles
BEGIN:VTIMEZONE
TZID:America/Los_Angeles
BEGIN:STANDARD
TZNAME:PST
DTSTART:20231105T020000
TZOFFSETFROM:-0700
TZOFFSETTO:-0800
RDATE:20241103T020000
RDATE:20251102T020000
END:STANDARD
BEGIN:DAYLIGHT
TZNAME:PDT
DTSTART:20240310T020000
TZOFFSETFROM:-0800
TZOFFSETTO:-0700
RDATE:20250309T020000
RDATE:20260308T020000
END:DAYLIGHT
END:VTIMEZONE
BEGIN:VEVENT
UID:57cc60c1-e1d3-4527-81aa-2e4e42e3cfe7
DTSTAMP:20260425T143757Z
DESCRIPTION:
DTSTART;TZID=America/Los_Angeles:20241018T190000
DTEND;TZID=America/Los_Angeles:20241018T210000
LOCATION:
SUMMARY:Lakeridge Varsity Football vs Tualatin (home)
END:VEVENT
END:VCALENDAR
