BEGIN:VCALENDAR
VERSION:2.0
PRODID:-//losfoundation.org//NONSGML kigkonsult.se iCalcreator 2.30.10//
CALSCALE:GREGORIAN
METHOD:PUBLISH
UID:5dabf2bd-bb21-4ab5-a687-a42955dfc994
X-WR-CALDESC:LO Varsity Football vs West Linn (away)
X-WR-RELCALID:888b9778c1622e91f7d03d8a1c0a2bde
X-WR-TIMEZONE:America/Los_Angeles
BEGIN:VTIMEZONE
TZID:America/Los_Angeles
BEGIN:STANDARD
TZNAME:PST
DTSTART:20231105T020000
TZOFFSETFROM:-0700
TZOFFSETTO:-0800
RDATE:20241103T020000
RDATE:20251102T020000
END:STANDARD
BEGIN:DAYLIGHT
TZNAME:PDT
DTSTART:20240310T020000
TZOFFSETFROM:-0800
TZOFFSETTO:-0700
RDATE:20250309T020000
RDATE:20260308T020000
END:DAYLIGHT
END:VTIMEZONE
BEGIN:VEVENT
UID:a03c8f19-07ed-46e3-8720-c83a024d3b4f
DTSTAMP:20260425T143558Z
DESCRIPTION:LO Varsity Football vs West Linn (away)
DTSTART;TZID=America/Los_Angeles:20241018T190000
DTEND;TZID=America/Los_Angeles:20241018T210000
LOCATION:
SUMMARY:Lake Oswego Varsity Football vs West Linn (away)
END:VEVENT
END:VCALENDAR
