BEGIN:VCALENDAR
VERSION:2.0
PRODID:-//losfoundation.org//NONSGML kigkonsult.se iCalcreator 2.30.10//
CALSCALE:GREGORIAN
METHOD:PUBLISH
UID:9c76054a-8456-4a53-b171-fd21f11a3392
X-WR-CALDESC:The annual winter Lake Oswego Schools Foundation Phone-athon b
 egins Tuesday\, October 15th (10/15-10/17). Please help us reach our goal 
 of a 100% participation with a gift of any size. Our volunteers are hard a
 t work getting ready to ask for your support. Please make their jobs easie
 r and pledge now. \n\nInterested in volunteering for this amazing event. W
 e could use your help. Sign up link is below.
X-WR-RELCALID:26d488e5841f8d91376b284dbeda176d
X-WR-TIMEZONE:America/Los_Angeles
BEGIN:VTIMEZONE
TZID:America/Los_Angeles
BEGIN:STANDARD
TZNAME:PST
DTSTART:20231105T020000
TZOFFSETFROM:-0700
TZOFFSETTO:-0800
RDATE:20241103T020000
RDATE:20251102T020000
END:STANDARD
BEGIN:DAYLIGHT
TZNAME:PDT
DTSTART:20240310T020000
TZOFFSETFROM:-0800
TZOFFSETTO:-0700
RDATE:20250309T020000
RDATE:20260308T020000
END:DAYLIGHT
END:VTIMEZONE
BEGIN:VEVENT
UID:d3a47595-b350-45f2-94ed-e579f1a92cfb
DTSTAMP:20260420T161451Z
DESCRIPTION:The annual winter Lake Oswego Schools Foundation Phone-athon be
 gins Tuesday\, October 15th (10/15-10/17). Please help us reach our goal o
 f a 100% participation with a gift of any size. Our volunteers are hard at
  work getting ready to ask for your support. Please make their jobs easier
  and pledge now. \n\nInterested in volunteering for this amazing event. We
  could use your help. Sign up link is below.
DTSTART;TZID=America/Los_Angeles:20241016T163000
DTEND;TZID=America/Los_Angeles:20241016T193000
LOCATION:Lake Oswego Schools Foundation\, 2455 Country Club Road\, Lake Osw
 ego\, OR 97034 US
SUMMARY:Foundation Phone-athon
END:VEVENT
END:VCALENDAR
