BEGIN:VCALENDAR
VERSION:2.0
PRODID:-//losfoundation.org//NONSGML kigkonsult.se iCalcreator 2.30.10//
CALSCALE:GREGORIAN
METHOD:PUBLISH
UID:9ce12c1e-0c71-4737-a563-cc45efa9c097
X-WR-CALDESC:
X-WR-RELCALID:b8c19042d433300d6af490de3db0ada2
X-WR-TIMEZONE:America/Los_Angeles
BEGIN:VTIMEZONE
TZID:America/Los_Angeles
BEGIN:STANDARD
TZNAME:PST
DTSTART:20231105T020000
TZOFFSETFROM:-0700
TZOFFSETTO:-0800
RDATE:20241103T020000
RDATE:20251102T020000
END:STANDARD
BEGIN:DAYLIGHT
TZNAME:PDT
DTSTART:20240310T020000
TZOFFSETFROM:-0800
TZOFFSETTO:-0700
RDATE:20250309T020000
RDATE:20260308T020000
END:DAYLIGHT
END:VTIMEZONE
BEGIN:VEVENT
UID:9532a3ec-39f2-4397-a9be-8ce2af58f6d7
DTSTAMP:20260421T102603Z
DESCRIPTION:
DTSTART;TZID=America/Los_Angeles:20241011T190000
DTEND;TZID=America/Los_Angeles:20241011T210000
LOCATION:
SUMMARY:Lakeridge Varsity Football vs West Linn (home)
END:VEVENT
END:VCALENDAR
