BEGIN:VCALENDAR
VERSION:2.0
PRODID:-//losfoundation.org//NONSGML kigkonsult.se iCalcreator 2.30.10//
CALSCALE:GREGORIAN
METHOD:PUBLISH
UID:6a5d9714-48ad-4609-84e6-93fd831828b7
X-WR-CALDESC:LO Varsity Football vs Tualatin (home game)
X-WR-RELCALID:b32a8327eb2ae1796a0f037e30d8ffb1
X-WR-TIMEZONE:America/Los_Angeles
BEGIN:VTIMEZONE
TZID:America/Los_Angeles
BEGIN:STANDARD
TZNAME:PST
DTSTART:20231105T020000
TZOFFSETFROM:-0700
TZOFFSETTO:-0800
RDATE:20241103T020000
RDATE:20251102T020000
END:STANDARD
BEGIN:DAYLIGHT
TZNAME:PDT
DTSTART:20240310T020000
TZOFFSETFROM:-0800
TZOFFSETTO:-0700
RDATE:20250309T020000
RDATE:20260308T020000
END:DAYLIGHT
END:VTIMEZONE
BEGIN:VEVENT
UID:c4ff1850-e141-45c6-8a0f-6efcd1c0bc48
DTSTAMP:20260425T144617Z
DESCRIPTION:LO Varsity Football vs Tualatin (home game)
DTSTART;TZID=America/Los_Angeles:20241004T190000
DTEND;TZID=America/Los_Angeles:20241004T210000
LOCATION:2501 Country Club Rd\, Lake Oswego\, OR 97034 US
SUMMARY:Lake Oswego Varsity Football vs Tualatin (home game)
END:VEVENT
END:VCALENDAR
