BEGIN:VCALENDAR
VERSION:2.0
PRODID:-//losfoundation.org//NONSGML kigkonsult.se iCalcreator 2.30.10//
CALSCALE:GREGORIAN
METHOD:PUBLISH
UID:3d12b171-75a6-4496-9dc8-8c5a1ff12e13
X-WR-CALDESC:
X-WR-RELCALID:aea893effec36243d0a5d865e58db7d1
X-WR-TIMEZONE:America/Los_Angeles
BEGIN:VTIMEZONE
TZID:America/Los_Angeles
BEGIN:STANDARD
TZNAME:PST
DTSTART:20231105T020000
TZOFFSETFROM:-0700
TZOFFSETTO:-0800
RDATE:20241103T020000
RDATE:20251102T020000
END:STANDARD
BEGIN:DAYLIGHT
TZNAME:PDT
DTSTART:20240310T020000
TZOFFSETFROM:-0800
TZOFFSETTO:-0700
RDATE:20250309T020000
RDATE:20260308T020000
END:DAYLIGHT
END:VTIMEZONE
BEGIN:VEVENT
UID:1bda1caa-a52d-44e3-9c83-866d19defaa5
DTSTAMP:20260425T162302Z
DESCRIPTION:
DTSTART;TZID=America/Los_Angeles:20240927T190000
DTEND;TZID=America/Los_Angeles:20240927T210000
LOCATION:
SUMMARY:Lakeridge Varsity Football vs Wilsonville (away)
END:VEVENT
END:VCALENDAR
