BEGIN:VCALENDAR
VERSION:2.0
PRODID:-//losfoundation.org//NONSGML kigkonsult.se iCalcreator 2.30.10//
CALSCALE:GREGORIAN
METHOD:PUBLISH
UID:515f7da5-7713-42ec-a2c0-c4a405cef1eb
X-WR-CALDESC:LOHS\, Back to School Night
X-WR-RELCALID:9f9b6bc04297dd59d03b96f2344efc68
X-WR-TIMEZONE:America/Los_Angeles
BEGIN:VTIMEZONE
TZID:America/Los_Angeles
BEGIN:STANDARD
TZNAME:PST
DTSTART:20231105T020000
TZOFFSETFROM:-0700
TZOFFSETTO:-0800
RDATE:20241103T020000
RDATE:20251102T020000
END:STANDARD
BEGIN:DAYLIGHT
TZNAME:PDT
DTSTART:20240310T020000
TZOFFSETFROM:-0800
TZOFFSETTO:-0700
RDATE:20250309T020000
RDATE:20260308T020000
END:DAYLIGHT
END:VTIMEZONE
BEGIN:VEVENT
UID:ce186d6d-5416-422d-9c9f-f638903bd0fc
DTSTAMP:20260425T162141Z
DESCRIPTION:LOHS\, Back to School Night
DTSTART;TZID=America/Los_Angeles:20240925T180000
DTEND;TZID=America/Los_Angeles:20240925T200000
LOCATION:2501 Country Club Road\, Lake Oswego\, OR 97034 US
SUMMARY:Lake Oswego High School\, Back to School Night
END:VEVENT
END:VCALENDAR
