BEGIN:VCALENDAR
VERSION:2.0
PRODID:-//losfoundation.org//NONSGML kigkonsult.se iCalcreator 2.30.10//
CALSCALE:GREGORIAN
METHOD:PUBLISH
UID:a875b461-84bc-44d2-bcb1-cd4361262679
X-WR-CALDESC:Hallinan Elementary School\, Back to School Night
X-WR-RELCALID:ae39d9c40379dd5cbca54f27543ca957
X-WR-TIMEZONE:America/Los_Angeles
BEGIN:VTIMEZONE
TZID:America/Los_Angeles
BEGIN:STANDARD
TZNAME:PST
DTSTART:20231105T020000
TZOFFSETFROM:-0700
TZOFFSETTO:-0800
RDATE:20241103T020000
RDATE:20251102T020000
END:STANDARD
BEGIN:DAYLIGHT
TZNAME:PDT
DTSTART:20240310T020000
TZOFFSETFROM:-0800
TZOFFSETTO:-0700
RDATE:20250309T020000
RDATE:20260308T020000
END:DAYLIGHT
END:VTIMEZONE
BEGIN:VEVENT
UID:f0a0f46a-6df4-4861-a960-77ab26b9cc73
DTSTAMP:20260425T161905Z
DESCRIPTION:Hallinan Elementary School\, Back to School Night
DTSTART;TZID=America/Los_Angeles:20240925T173000
DTEND;TZID=America/Los_Angeles:20240925T193000
LOCATION:16800 Hawthorne Drive\, Lake Oswego\, OR 97034 US
SUMMARY:Hallinan Elementary\, Back to School Night
END:VEVENT
END:VCALENDAR
