BEGIN:VCALENDAR
VERSION:2.0
PRODID:-//losfoundation.org//NONSGML kigkonsult.se iCalcreator 2.30.10//
CALSCALE:GREGORIAN
METHOD:PUBLISH
UID:56f895e5-360b-4400-a8ae-2fbad4c13d52
X-WR-CALDESC:Lakeridge High School\, Back to School Night
X-WR-RELCALID:03f8616528efe72a67f03f539d47a282
X-WR-TIMEZONE:America/Los_Angeles
BEGIN:VTIMEZONE
TZID:America/Los_Angeles
BEGIN:STANDARD
TZNAME:PST
DTSTART:20231105T020000
TZOFFSETFROM:-0700
TZOFFSETTO:-0800
RDATE:20241103T020000
RDATE:20251102T020000
END:STANDARD
BEGIN:DAYLIGHT
TZNAME:PDT
DTSTART:20240310T020000
TZOFFSETFROM:-0800
TZOFFSETTO:-0700
RDATE:20250309T020000
RDATE:20260308T020000
END:DAYLIGHT
END:VTIMEZONE
BEGIN:VEVENT
UID:c7490863-f9b3-4d26-8032-eac9fd9046e3
DTSTAMP:20260425T162029Z
DESCRIPTION:Lakeridge High School\, Back to School Night
DTSTART;TZID=America/Los_Angeles:20240924T180000
DTEND;TZID=America/Los_Angeles:20240924T200000
LOCATION:1235 Overlook Drive\, Lake Oswego\, OR 97034 US
SUMMARY:Lakeridge High School\, Back to School Night
END:VEVENT
END:VCALENDAR
