BEGIN:VCALENDAR
VERSION:2.0
PRODID:-//losfoundation.org//NONSGML kigkonsult.se iCalcreator 2.30.10//
CALSCALE:GREGORIAN
METHOD:PUBLISH
UID:ae2136fc-dd9d-4ffd-9718-cf8160361032
X-WR-CALDESC:
X-WR-RELCALID:9c0ee6b1161873bf176bb6137a8d8917
X-WR-TIMEZONE:America/Los_Angeles
BEGIN:VTIMEZONE
TZID:America/Los_Angeles
BEGIN:STANDARD
TZNAME:PST
DTSTART:20231105T020000
TZOFFSETFROM:-0700
TZOFFSETTO:-0800
RDATE:20241103T020000
RDATE:20251102T020000
END:STANDARD
BEGIN:DAYLIGHT
TZNAME:PDT
DTSTART:20240310T020000
TZOFFSETFROM:-0800
TZOFFSETTO:-0700
RDATE:20250309T020000
RDATE:20260308T020000
END:DAYLIGHT
END:VTIMEZONE
BEGIN:VEVENT
UID:822d5e01-95ac-47fc-804c-b77a31faf5fe
DTSTAMP:20260425T162150Z
DESCRIPTION:
DTSTART;TZID=America/Los_Angeles:20240920T190000
DTEND;TZID=America/Los_Angeles:20240920T210000
LOCATION:
SUMMARY:Lakeridge Varsity Football vs Mountainside (away)
END:VEVENT
END:VCALENDAR
