BEGIN:VCALENDAR
VERSION:2.0
PRODID:-//losfoundation.org//NONSGML kigkonsult.se iCalcreator 2.30.10//
CALSCALE:GREGORIAN
METHOD:PUBLISH
UID:8badad72-3941-41bc-bb68-ad4a854a3e05
X-WR-CALDESC:LO Varsity Football vs Newberg (home game)
X-WR-RELCALID:0a7733ba3cffbb378c0c39b22fa6d5a5
X-WR-TIMEZONE:America/Los_Angeles
BEGIN:VTIMEZONE
TZID:America/Los_Angeles
BEGIN:STANDARD
TZNAME:PST
DTSTART:20231105T020000
TZOFFSETFROM:-0700
TZOFFSETTO:-0800
RDATE:20241103T020000
RDATE:20251102T020000
END:STANDARD
BEGIN:DAYLIGHT
TZNAME:PDT
DTSTART:20240310T020000
TZOFFSETFROM:-0800
TZOFFSETTO:-0700
RDATE:20250309T020000
RDATE:20260308T020000
END:DAYLIGHT
END:VTIMEZONE
BEGIN:VEVENT
UID:2d2c0da1-fa52-4b71-ab31-7ae7d345d5d4
DTSTAMP:20260425T162418Z
DESCRIPTION:LO Varsity Football vs Newberg (home game)
DTSTART;TZID=America/Los_Angeles:20240920T190000
DTEND;TZID=America/Los_Angeles:20240920T210000
LOCATION:2501 Country Club Road\, Lake Oswego\, OR 97034 US
SUMMARY:Lake Oswego Varsity Football vs Newberg High School (home game)
END:VEVENT
END:VCALENDAR
