BEGIN:VCALENDAR
VERSION:2.0
PRODID:-//losfoundation.org//NONSGML kigkonsult.se iCalcreator 2.30.10//
CALSCALE:GREGORIAN
METHOD:PUBLISH
UID:8a75fe8b-bb7d-4362-a132-e1c083298bdb
X-WR-CALDESC:Palisades World Language School\, Back to School Night
X-WR-RELCALID:63f94101639ef29359529536ef24cecf
X-WR-TIMEZONE:America/Los_Angeles
BEGIN:VTIMEZONE
TZID:America/Los_Angeles
BEGIN:STANDARD
TZNAME:PST
DTSTART:20231105T020000
TZOFFSETFROM:-0700
TZOFFSETTO:-0800
RDATE:20241103T020000
RDATE:20251102T020000
END:STANDARD
BEGIN:DAYLIGHT
TZNAME:PDT
DTSTART:20240310T020000
TZOFFSETFROM:-0800
TZOFFSETTO:-0700
RDATE:20250309T020000
RDATE:20260308T020000
END:DAYLIGHT
END:VTIMEZONE
BEGIN:VEVENT
UID:eb09c1a9-1cd4-47d4-9071-bb5530af9a7d
DTSTAMP:20260425T161905Z
DESCRIPTION:Palisades World Language School\, Back to School Night
DTSTART;TZID=America/Los_Angeles:20240918T173000
DTEND;TZID=America/Los_Angeles:20240918T193000
LOCATION:1500 Greentree Avenue\, Lake Oswego\, OR 97034 US
SUMMARY:Palisades Elementary\, Back to School Night
END:VEVENT
END:VCALENDAR
