BEGIN:VCALENDAR
VERSION:2.0
PRODID:-//losfoundation.org//NONSGML kigkonsult.se iCalcreator 2.30.10//
CALSCALE:GREGORIAN
METHOD:PUBLISH
UID:041e7942-2b49-4314-bf97-e5d69206a0c0
X-WR-CALDESC:River Grove Elementary\, Back to School Night
X-WR-RELCALID:b9a94c10623ff5bd32a3cac775f7dfe7
X-WR-TIMEZONE:America/Los_Angeles
BEGIN:VTIMEZONE
TZID:America/Los_Angeles
BEGIN:STANDARD
TZNAME:PST
DTSTART:20231105T020000
TZOFFSETFROM:-0700
TZOFFSETTO:-0800
RDATE:20241103T020000
RDATE:20251102T020000
END:STANDARD
BEGIN:DAYLIGHT
TZNAME:PDT
DTSTART:20240310T020000
TZOFFSETFROM:-0800
TZOFFSETTO:-0700
RDATE:20250309T020000
RDATE:20260308T020000
END:DAYLIGHT
END:VTIMEZONE
BEGIN:VEVENT
UID:3d461d94-72be-42af-b577-bd74976cd58f
DTSTAMP:20260425T161948Z
DESCRIPTION:River Grove Elementary\, Back to School Night
DTSTART;TZID=America/Los_Angeles:20240917T173000
DTEND;TZID=America/Los_Angeles:20240917T193000
LOCATION:5850 SW McEwan Rd\, Lake Oswego\, OR 97035 US
SUMMARY:River Grove\, Back to School Night
END:VEVENT
END:VCALENDAR
