BEGIN:VCALENDAR
VERSION:2.0
PRODID:-//losfoundation.org//NONSGML kigkonsult.se iCalcreator 2.30.10//
CALSCALE:GREGORIAN
METHOD:PUBLISH
UID:c22f19f5-3dd8-4009-a60a-fa01ee1b547c
X-WR-CALDESC:
X-WR-RELCALID:5a14b906a67907c1971ebd95ef7580f9
X-WR-TIMEZONE:America/Los_Angeles
BEGIN:VTIMEZONE
TZID:America/Los_Angeles
BEGIN:STANDARD
TZNAME:PST
DTSTART:20231105T020000
TZOFFSETFROM:-0700
TZOFFSETTO:-0800
RDATE:20241103T020000
RDATE:20251102T020000
END:STANDARD
BEGIN:DAYLIGHT
TZNAME:PDT
DTSTART:20240310T020000
TZOFFSETFROM:-0800
TZOFFSETTO:-0700
RDATE:20250309T020000
RDATE:20260308T020000
END:DAYLIGHT
END:VTIMEZONE
BEGIN:VEVENT
UID:1768693b-0990-4f48-936b-a99c78e8cc43
DTSTAMP:20260425T162135Z
DESCRIPTION:
DTSTART;TZID=America/Los_Angeles:20240913T190000
DTEND;TZID=America/Los_Angeles:20240913T210000
LOCATION:
SUMMARY:Lakeridge Varsity Football vs Barlow (home)
END:VEVENT
END:VCALENDAR
