BEGIN:VCALENDAR
VERSION:2.0
PRODID:-//losfoundation.org//NONSGML kigkonsult.se iCalcreator 2.30.10//
CALSCALE:GREGORIAN
METHOD:PUBLISH
UID:c301a7d8-8d62-4f64-b69c-22dffaa7d4cc
X-WR-CALDESC:Westridge Elementary School\, Back to School Night
X-WR-RELCALID:ee03d3ffa50767e5b786f14591e69159
X-WR-TIMEZONE:America/Los_Angeles
BEGIN:VTIMEZONE
TZID:America/Los_Angeles
BEGIN:STANDARD
TZNAME:PST
DTSTART:20231105T020000
TZOFFSETFROM:-0700
TZOFFSETTO:-0800
RDATE:20241103T020000
RDATE:20251102T020000
END:STANDARD
BEGIN:DAYLIGHT
TZNAME:PDT
DTSTART:20240310T020000
TZOFFSETFROM:-0800
TZOFFSETTO:-0700
RDATE:20250309T020000
RDATE:20260308T020000
END:DAYLIGHT
END:VTIMEZONE
BEGIN:VEVENT
UID:0e28aef7-c4e2-4ed7-b4bf-adcda1af9b50
DTSTAMP:20260425T161900Z
DESCRIPTION:Westridge Elementary School\, Back to School Night
DTSTART;TZID=America/Los_Angeles:20240911T173000
DTEND;TZID=America/Los_Angeles:20240911T193000
LOCATION:3400 Royce Way\, Lake Oswego\, OR 97034 US
SUMMARY:Westridge Elementary\, Back to School Night
END:VEVENT
END:VCALENDAR
