BEGIN:VCALENDAR
VERSION:2.0
PRODID:-//losfoundation.org//NONSGML kigkonsult.se iCalcreator 2.30.10//
CALSCALE:GREGORIAN
METHOD:PUBLISH
UID:909f491b-7e7e-4a7a-a93f-100726f51429
X-WR-CALDESC:
X-WR-RELCALID:c592c79dd799edbfde5abf915151e6d0
X-WR-TIMEZONE:America/Los_Angeles
BEGIN:VTIMEZONE
TZID:America/Los_Angeles
BEGIN:STANDARD
TZNAME:PST
DTSTART:20231105T020000
TZOFFSETFROM:-0700
TZOFFSETTO:-0800
RDATE:20241103T020000
RDATE:20251102T020000
END:STANDARD
BEGIN:DAYLIGHT
TZNAME:PDT
DTSTART:20240310T020000
TZOFFSETFROM:-0800
TZOFFSETTO:-0700
RDATE:20250309T020000
RDATE:20260308T020000
END:DAYLIGHT
END:VTIMEZONE
BEGIN:VEVENT
UID:9900c6bb-d06c-48bc-a2fb-4ed18d5f6302
DTSTAMP:20260425T162156Z
DESCRIPTION:
DTSTART;TZID=America/Los_Angeles:20240911T190000
DTEND;TZID=America/Los_Angeles:20240911T203000
LOCATION:
SUMMARY:Foundation: Board of Directors Meeting
END:VEVENT
END:VCALENDAR
