BEGIN:VCALENDAR
VERSION:2.0
PRODID:-//losfoundation.org//NONSGML kigkonsult.se iCalcreator 2.30.10//
CALSCALE:GREGORIAN
METHOD:PUBLISH
UID:d203604e-cdc9-4001-9bc0-9a901ed43cd9
X-WR-CALDESC:Forest Hills\, Back to School Night
X-WR-RELCALID:6cd19e091d05b56dab813842b25702b3
X-WR-TIMEZONE:America/Los_Angeles
BEGIN:VTIMEZONE
TZID:America/Los_Angeles
BEGIN:STANDARD
TZNAME:PST
DTSTART:20231105T020000
TZOFFSETFROM:-0700
TZOFFSETTO:-0800
RDATE:20241103T020000
RDATE:20251102T020000
END:STANDARD
BEGIN:DAYLIGHT
TZNAME:PDT
DTSTART:20240310T020000
TZOFFSETFROM:-0800
TZOFFSETTO:-0700
RDATE:20250309T020000
RDATE:20260308T020000
END:DAYLIGHT
END:VTIMEZONE
BEGIN:VEVENT
UID:5d49f68f-0796-42f2-a845-5f60e4a74ca8
DTSTAMP:20260425T162008Z
DESCRIPTION:Forest Hills\, Back to School Night
DTSTART;TZID=America/Los_Angeles:20240911T173000
DTEND;TZID=America/Los_Angeles:20240911T193000
LOCATION:1133 Andrews Road\, Lake Oswego\, OR 97034 US
SUMMARY:Forest Hills\, Back to School Night
END:VEVENT
END:VCALENDAR
