BEGIN:VCALENDAR
VERSION:2.0
PRODID:-//losfoundation.org//NONSGML kigkonsult.se iCalcreator 2.30.10//
CALSCALE:GREGORIAN
METHOD:PUBLISH
UID:7030420a-2ee7-4f81-b9be-fffefb6a4129
X-WR-CALDESC:
X-WR-RELCALID:ea6d914da2ed41bfe03fa33f7f1a5024
X-WR-TIMEZONE:America/Los_Angeles
BEGIN:VTIMEZONE
TZID:America/Los_Angeles
BEGIN:STANDARD
TZNAME:PST
DTSTART:20231105T020000
TZOFFSETFROM:-0700
TZOFFSETTO:-0800
RDATE:20241103T020000
RDATE:20251102T020000
END:STANDARD
BEGIN:DAYLIGHT
TZNAME:PDT
DTSTART:20240310T020000
TZOFFSETFROM:-0800
TZOFFSETTO:-0700
RDATE:20250309T020000
RDATE:20260308T020000
END:DAYLIGHT
END:VTIMEZONE
BEGIN:VEVENT
UID:6c805c9f-f8fc-4a75-b663-1126cb5a2216
DTSTAMP:20260421T021900Z
DESCRIPTION:
DTSTART;TZID=America/Los_Angeles:20240910T173000
DTEND;TZID=America/Los_Angeles:20240910T193000
LOCATION:55 Kingsgate Road\, Lake Oswego\, OR 97035 US
SUMMARY:Oak Creek\, Back to School Night
END:VEVENT
END:VCALENDAR
