BEGIN:VCALENDAR
VERSION:2.0
PRODID:-//losfoundation.org//NONSGML kigkonsult.se iCalcreator 2.30.10//
CALSCALE:GREGORIAN
METHOD:PUBLISH
UID:280b9620-e42a-4513-9094-3f98bbdf0e8e
X-WR-CALDESC:
X-WR-RELCALID:06fe063c77730039b962f82027656234
X-WR-TIMEZONE:America/Los_Angeles
BEGIN:VTIMEZONE
TZID:America/Los_Angeles
BEGIN:STANDARD
TZNAME:PST
DTSTART:20231105T020000
TZOFFSETFROM:-0700
TZOFFSETTO:-0800
RDATE:20241103T020000
RDATE:20251102T020000
END:STANDARD
BEGIN:DAYLIGHT
TZNAME:PDT
DTSTART:20240310T020000
TZOFFSETFROM:-0800
TZOFFSETTO:-0700
RDATE:20250309T020000
RDATE:20260308T020000
END:DAYLIGHT
END:VTIMEZONE
BEGIN:VEVENT
UID:08c14519-67dd-4dca-910c-4cc495b1bf2d
DTSTAMP:20260425T162257Z
DESCRIPTION:
DTSTART;TZID=America/Los_Angeles:20240906T190000
DTEND;TZID=America/Los_Angeles:20240906T210000
LOCATION:
SUMMARY:Lakeridge Varsity Football vs Jefferson (home)
END:VEVENT
END:VCALENDAR
