BEGIN:VCALENDAR
VERSION:2.0
PRODID:-//losfoundation.org//NONSGML kigkonsult.se iCalcreator 2.30.10//
CALSCALE:GREGORIAN
METHOD:PUBLISH
UID:0a46cea4-f40d-47ba-b63b-71823670f294
X-WR-CALDESC:LOHS vs Sunset (away game)
X-WR-RELCALID:42ed8dd421ec0a136a5c921946c4bbd1
X-WR-TIMEZONE:America/Los_Angeles
BEGIN:VTIMEZONE
TZID:America/Los_Angeles
BEGIN:STANDARD
TZNAME:PST
DTSTART:20231105T020000
TZOFFSETFROM:-0700
TZOFFSETTO:-0800
RDATE:20241103T020000
RDATE:20251102T020000
END:STANDARD
BEGIN:DAYLIGHT
TZNAME:PDT
DTSTART:20240310T020000
TZOFFSETFROM:-0800
TZOFFSETTO:-0700
RDATE:20250309T020000
RDATE:20260308T020000
END:DAYLIGHT
END:VTIMEZONE
BEGIN:VEVENT
UID:bec734eb-9fbe-4dce-b04e-3c8306bc6433
DTSTAMP:20260425T162311Z
DESCRIPTION:LOHS vs Sunset (away game)
DTSTART;TZID=America/Los_Angeles:20240906T190000
DTEND;TZID=America/Los_Angeles:20240906T213000
LOCATION:
SUMMARY:Lake Oswego Vardity Football vs Sunset High School (Away)
END:VEVENT
END:VCALENDAR
