BEGIN:VCALENDAR
VERSION:2.0
PRODID:-//losfoundation.org//NONSGML kigkonsult.se iCalcreator 2.30.10//
CALSCALE:GREGORIAN
METHOD:PUBLISH
UID:c44441e9-6834-422d-8003-e4f06998fcc3
X-WR-CALDESC:Lakeridge Middle School\, Back to School Night
X-WR-RELCALID:ae19dfdae6a89098d94938c2acce1824
X-WR-TIMEZONE:America/Los_Angeles
BEGIN:VTIMEZONE
TZID:America/Los_Angeles
BEGIN:STANDARD
TZNAME:PST
DTSTART:20231105T020000
TZOFFSETFROM:-0700
TZOFFSETTO:-0800
RDATE:20241103T020000
RDATE:20251102T020000
END:STANDARD
BEGIN:DAYLIGHT
TZNAME:PDT
DTSTART:20240310T020000
TZOFFSETFROM:-0800
TZOFFSETTO:-0700
RDATE:20250309T020000
END:DAYLIGHT
END:VTIMEZONE
BEGIN:VEVENT
UID:44a25e5d-97fa-47bd-913d-d81221e64f12
DTSTAMP:20260425T162022Z
DESCRIPTION:Lakeridge Middle School\, Back to School Night
DTSTART;TZID=America/Los_Angeles:20240904T180000
DTEND;TZID=America/Los_Angeles:20240904T200000
LOCATION:4700 Jean Road\, Lake Oswego\, OR 97034 US
SUMMARY:Lakeridge Middle School\, Back to School Night
END:VEVENT
END:VCALENDAR
