BEGIN:VCALENDAR
VERSION:2.0
PRODID:-//losfoundation.org//NONSGML kigkonsult.se iCalcreator 2.30.10//
CALSCALE:GREGORIAN
METHOD:PUBLISH
UID:edbacb81-5b06-42a7-88c4-e8dd368d39c3
X-WR-CALDESC:Lake Grove Elementary\, Back to School Night
X-WR-RELCALID:a46822f1fadef82e255f01762d62297b
X-WR-TIMEZONE:America/Los_Angeles
BEGIN:VTIMEZONE
TZID:America/Los_Angeles
BEGIN:STANDARD
TZNAME:PST
DTSTART:20231105T020000
TZOFFSETFROM:-0700
TZOFFSETTO:-0800
RDATE:20241103T020000
RDATE:20251102T020000
END:STANDARD
BEGIN:DAYLIGHT
TZNAME:PDT
DTSTART:20240310T020000
TZOFFSETFROM:-0800
TZOFFSETTO:-0700
RDATE:20250309T020000
END:DAYLIGHT
END:VTIMEZONE
BEGIN:VEVENT
UID:763ea890-7d9a-4f3a-ac81-ea74c8b3c53d
DTSTAMP:20260425T162109Z
DESCRIPTION:Lake Grove Elementary\, Back to School Night
DTSTART;TZID=America/Los_Angeles:20240904T173000
DTEND;TZID=America/Los_Angeles:20240904T193000
LOCATION:15777 Boones Ferry Road\, Lake Oswego\, OR 97035 US
SUMMARY:Lake Grove\, Back to School Night
END:VEVENT
END:VCALENDAR
