BEGIN:VCALENDAR
VERSION:2.0
PRODID:-//losfoundation.org//NONSGML kigkonsult.se iCalcreator 2.30.10//
CALSCALE:GREGORIAN
METHOD:PUBLISH
UID:e1a53cd3-eaf1-4ccf-b15f-77050426ad11
X-WR-CALDESC:
X-WR-RELCALID:9043962985a99e389ae5344168b32334
X-WR-TIMEZONE:America/Los_Angeles
BEGIN:VTIMEZONE
TZID:America/Los_Angeles
BEGIN:STANDARD
TZNAME:PST
DTSTART:20231105T020000
TZOFFSETFROM:-0700
TZOFFSETTO:-0800
RDATE:20241103T020000
RDATE:20251102T020000
END:STANDARD
BEGIN:DAYLIGHT
TZNAME:PDT
DTSTART:20240310T020000
TZOFFSETFROM:-0800
TZOFFSETTO:-0700
RDATE:20250309T020000
END:DAYLIGHT
END:VTIMEZONE
BEGIN:VEVENT
UID:8ebfd2ef-5f01-415d-a114-ad298b60f6d9
DTSTAMP:20260425T161845Z
DESCRIPTION:
DTSTART;TZID=America/Los_Angeles:20240903T030000
DTEND;TZID=America/Los_Angeles:20240903T030001
LOCATION:
SUMMARY:School Starts
END:VEVENT
END:VCALENDAR
