BEGIN:VCALENDAR
VERSION:2.0
PRODID:-//losfoundation.org//NONSGML kigkonsult.se iCalcreator 2.30.10//
CALSCALE:GREGORIAN
METHOD:PUBLISH
UID:f6d1ac0a-95e2-4b16-873c-e613ecc8596e
X-WR-CALDESC:LOHS vs South Medford High School (Home Game)
X-WR-RELCALID:c71e81b3ef5d3fd07778b701bcb9f1fd
X-WR-TIMEZONE:America/Los_Angeles
BEGIN:VTIMEZONE
TZID:America/Los_Angeles
BEGIN:STANDARD
TZNAME:PST
DTSTART:20231105T020000
TZOFFSETFROM:-0700
TZOFFSETTO:-0800
RDATE:20241103T020000
RDATE:20251102T020000
END:STANDARD
BEGIN:DAYLIGHT
TZNAME:PDT
DTSTART:20240310T020000
TZOFFSETFROM:-0800
TZOFFSETTO:-0700
RDATE:20250309T020000
END:DAYLIGHT
END:VTIMEZONE
BEGIN:VEVENT
UID:bbd83471-8c67-4709-a756-6de6ec1e7171
DTSTAMP:20260425T172920Z
DESCRIPTION:LOHS vs South Medford High School (Home Game)
DTSTART;TZID=America/Los_Angeles:20240830T190000
DTEND;TZID=America/Los_Angeles:20240830T210000
LOCATION:2501 Country Club Road\, Lake Oswego\, OR 97034 US
SUMMARY:LOHS Varsity Football VS South Medford (Home Game)
END:VEVENT
END:VCALENDAR
