BEGIN:VCALENDAR
VERSION:2.0
PRODID:-//losfoundation.org//NONSGML kigkonsult.se iCalcreator 2.30.10//
CALSCALE:GREGORIAN
METHOD:PUBLISH
UID:8154bbea-0267-49eb-a1c0-41379e9505c9
X-WR-CALDESC:Lake Oswego Middle School (@ Uplands Elementary)\, Back to Sch
 ool Night
X-WR-RELCALID:51a6be8e5a419ddbd96bde49ca0c8b4c
X-WR-TIMEZONE:America/Los_Angeles
BEGIN:VTIMEZONE
TZID:America/Los_Angeles
BEGIN:STANDARD
TZNAME:PST
DTSTART:20231105T020000
TZOFFSETFROM:-0700
TZOFFSETTO:-0800
RDATE:20241103T020000
RDATE:20251102T020000
END:STANDARD
BEGIN:DAYLIGHT
TZNAME:PDT
DTSTART:20240310T020000
TZOFFSETFROM:-0800
TZOFFSETTO:-0700
RDATE:20250309T020000
END:DAYLIGHT
END:VTIMEZONE
BEGIN:VEVENT
UID:a45fe3c2-f2ec-4855-ae04-f56be806663b
DTSTAMP:20260425T172935Z
DESCRIPTION:Lake Oswego Middle School (@ Uplands Elementary)\, Back to Scho
 ol Night
DTSTART;TZID=America/Los_Angeles:20240829T180000
DTEND;TZID=America/Los_Angeles:20240829T200000
LOCATION:2055 Wembley Park Rd\, Lake Oswego\, OR 97034 US
SUMMARY:LOMS Back to School Night
END:VEVENT
END:VCALENDAR
