BEGIN:VCALENDAR
VERSION:2.0
PRODID:-//losfoundation.org//NONSGML kigkonsult.se iCalcreator 2.30.10//
CALSCALE:GREGORIAN
METHOD:PUBLISH
UID:05521013-4f11-4c2e-adfb-80ba998a013d
X-WR-CALDESC:Join the Foundation for the July 4th Parade in Lake Oswego! \n
 \nBring your family and friends and march with us in the 4th of July Parad
 e in Lake Oswego. Wear your patriotic best and come on over. Wagons and bi
 kes are welcome too\, decor provided or bring your own. After you register
  look for an email with all the event details (day of instructions and par
 king).\n
X-WR-RELCALID:b187ae5ec8808748788ad71b4e6c98cc
X-WR-TIMEZONE:America/Los_Angeles
BEGIN:VTIMEZONE
TZID:America/Los_Angeles
BEGIN:STANDARD
TZNAME:PST
DTSTART:20231105T020000
TZOFFSETFROM:-0700
TZOFFSETTO:-0800
RDATE:20241103T020000
RDATE:20251102T020000
END:STANDARD
BEGIN:DAYLIGHT
TZNAME:PDT
DTSTART:20240310T020000
TZOFFSETFROM:-0800
TZOFFSETTO:-0700
RDATE:20250309T020000
END:DAYLIGHT
END:VTIMEZONE
BEGIN:VEVENT
UID:5ac9820d-5bad-499b-bd01-dd66d8a0b1b3
DTSTAMP:20260425T183925Z
DESCRIPTION:Join the Foundation for the July 4th Parade in Lake Oswego! \n
 \nBring your family and friends and march with us in the 4th of July Parad
 e in Lake Oswego. Wear your patriotic best and come on over. Wagons and bi
 kes are welcome too\, decor provided or bring your own. After you register
  look for an email with all the event details (day of instructions and par
 king).\n
DTSTART;TZID=America/Los_Angeles:20240704T083000
DTEND;TZID=America/Los_Angeles:20240704T130000
LOCATION:A Avenue and Millennium Plaza Park\, Lake Oswego\, OR 97034 US
SUMMARY:Lake Oswego 4th of July Parade
END:VEVENT
END:VCALENDAR
