BEGIN:VCALENDAR
VERSION:2.0
PRODID:-//losfoundation.org//NONSGML kigkonsult.se iCalcreator 2.30.10//
CALSCALE:GREGORIAN
METHOD:PUBLISH
UID:2c441fe0-1552-47d9-a30a-8c3faa95759e
X-WR-CALDESC:Annual Board retreat for the Lake Oswego Schools Foundation bo
 ard of directors
X-WR-RELCALID:c7d38aa37ca6d8aa7f003ef267edb52f
X-WR-TIMEZONE:America/Los_Angeles
BEGIN:VTIMEZONE
TZID:America/Los_Angeles
BEGIN:STANDARD
TZNAME:PST
DTSTART:20231105T020000
TZOFFSETFROM:-0700
TZOFFSETTO:-0800
RDATE:20241103T020000
RDATE:20251102T020000
END:STANDARD
BEGIN:DAYLIGHT
TZNAME:PDT
DTSTART:20240310T020000
TZOFFSETFROM:-0800
TZOFFSETTO:-0700
RDATE:20250309T020000
END:DAYLIGHT
END:VTIMEZONE
BEGIN:VEVENT
UID:89525cfe-7a01-4881-a170-f8a76abbf34e
DTSTAMP:20260425T195424Z
DESCRIPTION:Annual Board retreat for the Lake Oswego Schools Foundation boa
 rd of directors
DTSTART;TZID=America/Los_Angeles:20240604T170000
DTEND;TZID=America/Los_Angeles:20240604T200000
LOCATION:
SUMMARY:Foundation: Board of Directors Retreat
END:VEVENT
END:VCALENDAR
