BEGIN:VCALENDAR
VERSION:2.0
PRODID:-//losfoundation.org//NONSGML kigkonsult.se iCalcreator 2.30.10//
CALSCALE:GREGORIAN
METHOD:PUBLISH
UID:edb40933-2e16-46e8-9a08-0b76785485bc
X-WR-CALDESC:Now that you've almost had your first year in the district you
  may have some questions about your school\, the district\, or the LO Scho
 ols Foundation. Come by to meet other new Lake Oswego families and have th
 e Schools Foundation board members on hand to answer questions. \n\nWe hop
 e to see you there!
X-WR-RELCALID:b7f2dafd9aa279f813d317e31fc10f53
X-WR-TIMEZONE:America/Los_Angeles
BEGIN:VTIMEZONE
TZID:America/Los_Angeles
BEGIN:STANDARD
TZNAME:PST
DTSTART:20231105T020000
TZOFFSETFROM:-0700
TZOFFSETTO:-0800
RDATE:20241103T020000
RDATE:20251102T020000
END:STANDARD
BEGIN:DAYLIGHT
TZNAME:PDT
DTSTART:20240310T020000
TZOFFSETFROM:-0800
TZOFFSETTO:-0700
RDATE:20250309T020000
END:DAYLIGHT
END:VTIMEZONE
BEGIN:VEVENT
UID:aa522315-c64d-4e2a-812f-4963eddbb2e4
DTSTAMP:20260425T205445Z
DESCRIPTION:Now that you've almost had your first year in the district you 
 may have some questions about your school\, the district\, or the LO Schoo
 ls Foundation. Come by to meet other new Lake Oswego families and have the
  Schools Foundation board members on hand to answer questions. \n\nWe hope
  to see you there!
DTSTART;TZID=America/Los_Angeles:20240509T170000
DTEND;TZID=America/Los_Angeles:20240509T190000
LOCATION:Lake View Taphouse\, 305 1st Street\, Lake Oswego\, OR 97034 US
SUMMARY:New Family Happy Hour
END:VEVENT
END:VCALENDAR
