BEGIN:VCALENDAR
VERSION:2.0
PRODID:-//losfoundation.org//NONSGML kigkonsult.se iCalcreator 2.30.10//
CALSCALE:GREGORIAN
METHOD:PUBLISH
UID:65e7c532-4667-46bd-8d24-a0d4de236604
X-WR-CALDESC:Monthly meeting of the Lake Oswego Schools Foundation board of
  directors
X-WR-RELCALID:b9801e811e6aec763b1fe808764e54de
X-WR-TIMEZONE:America/Los_Angeles
BEGIN:VTIMEZONE
TZID:America/Los_Angeles
BEGIN:STANDARD
TZNAME:PST
DTSTART:20231105T020000
TZOFFSETFROM:-0700
TZOFFSETTO:-0800
RDATE:20241103T020000
END:STANDARD
BEGIN:DAYLIGHT
TZNAME:PDT
DTSTART:20240310T020000
TZOFFSETFROM:-0800
TZOFFSETTO:-0700
RDATE:20250309T020000
END:DAYLIGHT
END:VTIMEZONE
BEGIN:VEVENT
UID:25e05685-8de4-4f6e-bfb9-cf40d9e7f4f2
DTSTAMP:20260425T220232Z
DESCRIPTION:Monthly meeting of the Lake Oswego Schools Foundation board of 
 directors
DTSTART;TZID=America/Los_Angeles:20240410T190000
DTEND;TZID=America/Los_Angeles:20240410T203000
LOCATION:
SUMMARY:Foundation Board of Directors Meeting
END:VEVENT
END:VCALENDAR
