BEGIN:VCALENDAR
VERSION:2.0
PRODID:-//losfoundation.org//NONSGML kigkonsult.se iCalcreator 2.30.10//
CALSCALE:GREGORIAN
METHOD:PUBLISH
UID:73854f81-06e1-417c-b175-6bb412e3454f
X-WR-CALDESC:Monthly meeting of the Lake Oswego Schools Foundation board of
  directors
X-WR-RELCALID:b137f55220416d530a69aed9f30a1a72
X-WR-TIMEZONE:America/Los_Angeles
BEGIN:VTIMEZONE
TZID:America/Los_Angeles
BEGIN:STANDARD
TZNAME:PST
DTSTART:20231105T020000
TZOFFSETFROM:-0700
TZOFFSETTO:-0800
RDATE:20241103T020000
END:STANDARD
BEGIN:DAYLIGHT
TZNAME:PDT
DTSTART:20240310T020000
TZOFFSETFROM:-0800
TZOFFSETTO:-0700
RDATE:20250309T020000
END:DAYLIGHT
END:VTIMEZONE
BEGIN:VEVENT
UID:6c1f8d35-2bee-4adf-86d1-f45f1b0a5dca
DTSTAMP:20260425T231144Z
DESCRIPTION:Monthly meeting of the Lake Oswego Schools Foundation board of 
 directors
DTSTART;TZID=America/Los_Angeles:20240313T190000
DTEND;TZID=America/Los_Angeles:20240313T203000
LOCATION:
SUMMARY:Foundation Board of Directors Meeting
END:VEVENT
END:VCALENDAR
