BEGIN:VCALENDAR
VERSION:2.0
PRODID:-//losfoundation.org//NONSGML kigkonsult.se iCalcreator 2.30.10//
CALSCALE:GREGORIAN
METHOD:PUBLISH
UID:b7e44630-f720-41e0-b52d-3ca8594ae059
X-WR-CALDESC:Monthly meeting of the Lake Oswego Schools Foundation board of
  directors
X-WR-RELCALID:02c9b3c85b304a9e245b14ca1b18c5b5
X-WR-TIMEZONE:America/Los_Angeles
BEGIN:VTIMEZONE
TZID:America/Los_Angeles
BEGIN:STANDARD
TZNAME:PST
DTSTART:20231105T020000
TZOFFSETFROM:-0700
TZOFFSETTO:-0800
RDATE:20241103T020000
END:STANDARD
BEGIN:DAYLIGHT
TZNAME:PDT
DTSTART:20230312T020000
TZOFFSETFROM:-0800
TZOFFSETTO:-0700
RDATE:20240310T020000
RDATE:20250309T020000
END:DAYLIGHT
END:VTIMEZONE
BEGIN:VEVENT
UID:4b1de96c-85f6-474f-8362-0f4232f03f7b
DTSTAMP:20260426T002212Z
DESCRIPTION:Monthly meeting of the Lake Oswego Schools Foundation board of 
 directors
DTSTART;TZID=America/Los_Angeles:20240214T190000
DTEND;TZID=America/Los_Angeles:20240214T203000
LOCATION:
SUMMARY:Foundation Board of Directors Meeting
END:VEVENT
END:VCALENDAR
