BEGIN:VCALENDAR
VERSION:2.0
PRODID:-//losfoundation.org//NONSGML kigkonsult.se iCalcreator 2.30.10//
CALSCALE:GREGORIAN
METHOD:PUBLISH
UID:617eaf80-f942-4af6-b2e2-5f41d9937568
X-WR-CALDESC:Monthly meeting of the Lake Oswego Schools Foundation board of
  directors
X-WR-RELCALID:027ad463cd84a20bb617146b1dced756
X-WR-TIMEZONE:America/Los_Angeles
BEGIN:VTIMEZONE
TZID:America/Los_Angeles
BEGIN:STANDARD
TZNAME:PST
DTSTART:20231105T020000
TZOFFSETFROM:-0700
TZOFFSETTO:-0800
RDATE:20241103T020000
END:STANDARD
BEGIN:DAYLIGHT
TZNAME:PDT
DTSTART:20230312T020000
TZOFFSETFROM:-0800
TZOFFSETTO:-0700
RDATE:20240310T020000
RDATE:20250309T020000
END:DAYLIGHT
END:VTIMEZONE
BEGIN:VEVENT
UID:50458ba5-b219-4b8f-9323-21fda6d7889d
DTSTAMP:20260426T013508Z
DESCRIPTION:Monthly meeting of the Lake Oswego Schools Foundation board of 
 directors
DTSTART;TZID=America/Los_Angeles:20240110T190000
DTEND;TZID=America/Los_Angeles:20240110T203000
LOCATION:
SUMMARY:Foundation Board of Directors Meeting
END:VEVENT
END:VCALENDAR
