BEGIN:VCALENDAR
VERSION:2.0
PRODID:-//losfoundation.org//NONSGML kigkonsult.se iCalcreator 2.30.10//
CALSCALE:GREGORIAN
METHOD:PUBLISH
UID:339252d0-90be-428b-aaf7-2d6b15d738a3
X-WR-CALDESC:Monthly meeting of the Lake Oswego Schools Foundation board of
  directors
X-WR-RELCALID:b2baeffca0e0c12909f010e3a91240d3
X-WR-TIMEZONE:America/Los_Angeles
BEGIN:VTIMEZONE
TZID:America/Los_Angeles
BEGIN:STANDARD
TZNAME:PST
DTSTART:20231105T020000
TZOFFSETFROM:-0700
TZOFFSETTO:-0800
RDATE:20241103T020000
END:STANDARD
BEGIN:DAYLIGHT
TZNAME:PDT
DTSTART:20230312T020000
TZOFFSETFROM:-0800
TZOFFSETTO:-0700
RDATE:20240310T020000
RDATE:20250309T020000
END:DAYLIGHT
END:VTIMEZONE
BEGIN:VEVENT
UID:c324be73-04e1-41e6-8fd0-5cac6c9544a8
DTSTAMP:20260426T040205Z
DESCRIPTION:Monthly meeting of the Lake Oswego Schools Foundation board of 
 directors
DTSTART;TZID=America/Los_Angeles:20231108T190000
DTEND;TZID=America/Los_Angeles:20231108T203000
LOCATION:
SUMMARY:Foundation Board of Directors Meeting
END:VEVENT
END:VCALENDAR
